BEGIN:VCALENDAR
VERSION:2.0
PRODID:-//TotalExpo.ru v1.0//EN
BEGIN:VEVENT
DTSTAMP:20261013T120000
DTSTART:20261013T070000Z
DTEND:20261016T140000Z
SUMMARY:EURASIA PACKAGING ISTANBUL 2026 (Стамбул, Турция)
DESCRIPTION:Международная выставка упаковочной индустрии. Является самой крупной и эффективной выставкой упаковки в Турции и во всем евроазиатском регионе; на ней представлены все разделы и отрасли упаковки.
LOCATION:Tuyap Fair Convention and Congress Center  (Турция, Стамбул)
END:VEVENT
END:VCALENDAR