BEGIN:VCALENDAR
VERSION:2.0
PRODID:-//TotalExpo.ru v1.0//EN
BEGIN:VEVENT
DTSTAMP:20261022T120000
DTSTART:20261022T070000Z
DTEND:20261024T140000Z
SUMMARY:ANKIROS / ANNOFER / TURKCAST 2026 (Стамбул, Турция)
DESCRIPTION:Международная выставка, состоящая из 3-х одновременно проходящих мероприятий: ANKIROS - международная выставка железа, стали и литейной промышленности; ANNOFER - международная выставка цветных металлов, изделий, оборудования, обработки и технологий и TURKCAST - специализированная выставка литейного производства. 
LOCATION:Istanbul Expo Center (IFM) (Турция, Стамбул)
END:VEVENT
END:VCALENDAR