BEGIN:VCALENDAR
VERSION:2.0
PRODID:-//TotalExpo.ru v1.0//EN
BEGIN:VEVENT
DTSTAMP:20270609T120000
DTSTART:20270609T070000Z
DTEND:20270611T140000Z
SUMMARY:VIV SELECT TURKIYE 2027 (Стамбул, Турция)
DESCRIPTION:Международная выставка индустрии птицеводства. Акцент будет сделан на аспекты: упаковка, контроль качества, производительность, эффективность.
LOCATION:Istanbul Expo Center (IFM) (Турция, Стамбул)
END:VEVENT
END:VCALENDAR