BEGIN:VCALENDAR
VERSION:2.0
PRODID:-//TotalExpo.ru v1.0//EN
BEGIN:VEVENT
DTSTAMP:20260519T120000
DTSTART:20260519T070000Z
DTEND:20260522T140000Z
SUMMARY:Automechanika Istanbul 2026 (Стамбул, Турция)
DESCRIPTION:Международная выставка индустрии послепродажного обслуживания автомобилей. В рамках деловой программы выставки будут организованы как международные конференции, так и различные мероприятия и круглые столы. Участники и посетители могут узнать о последних разработках в отрасли и пообщаться с экспертами. 
LOCATION:Tuyap Fair Convention and Congress Center  (Турция, Стамбул)
END:VEVENT
END:VCALENDAR