BEGIN:VCALENDAR
VERSION:2.0
PRODID:-//TotalExpo.ru v1.0//EN
BEGIN:VEVENT
DTSTAMP:20261121T120000
DTSTART:20261121T070000Z
DTEND:20261124T140000Z
SUMMARY:Eurasia Glass 2026 (Стамбул, Турция)
DESCRIPTION:Выставка стекла, изделий из стекла, технологий производства и обработки, станков и механизмов, вспомогательной продукции и химикатов. <br/> Проходит параллельно с Eurasia Window - международной выставкой окон и оконных систем, профилей, технологий производства и оборудования, сырья и вспомогательной продукции и Eurasia Door - международной выставкой дверей, дверных панелей и плит, разделительных перегородок и фурнитуры.
LOCATION:Tuyap Fair Convention and Congress Center  (Турция, Стамбул)
END:VEVENT
END:VCALENDAR