BEGIN:VCALENDAR
VERSION:2.0
PRODID:-//TotalExpo.ru v1.0//EN
BEGIN:VEVENT
DTSTAMP:20260514T120000
DTSTART:20260514T070000Z
DTEND:20260516T140000Z
SUMMARY:ТРАНСПОРТ ДВ региона. Техника. Сервис. Перевозки 2026 (Хабаровск, Россия)
DESCRIPTION:Многоотраслевая выставка. Все виды транспорта: ж/д, водный, авиа, авто. Технологии перевозок. Машиностроение. Строительство дорог, мостов, тоннелей. Инфраструктура. Спецтехника для всех отраслей промышленности. Автотранспорт: запчасти, аксессуары, авто-химия. Безопасность и мониторинг. Авто/мото/вело/авиатехника. Страхование. Автокредит.
LOCATION:Ерофей Арена (Россия, Хабаровск)
END:VEVENT
END:VCALENDAR