BEGIN:VCALENDAR
VERSION:2.0
PRODID:-//TotalExpo.ru v1.0//EN
BEGIN:VEVENT
DTSTAMP:20261014T120000
DTSTART:20261014T070000Z
DTEND:20261016T140000Z
SUMMARY:Стоматологический форум на Волге 2026 (Волгоград, Россия)
DESCRIPTION:Всероссийский специализированный форум для всех, кто тем или иным образом занят в сфере стоматологии. Два дня в режиме non-stop здесь будут обсуждаться самые актуальные проблемы и вопросы отрасли, демонстрироваться новые материалы в области имплантологии, ортопедии, зуботехники, эндодонтии и эстетической стоматологии. В рамках форума также состоится научно-практическая конференция, 3-я Областная конференция для специалистов со средним медицинским образованием Секция «Сестринское дело в стоматологии» и круглый стол по актуальным вопросам стоматологии.
LOCATION:Выставочный комплекс ЭКСПОЦЕНТР (Россия, Волгоград)
END:VEVENT
END:VCALENDAR