BEGIN:VCALENDAR
VERSION:2.0
PRODID:-//TotalExpo.ru v1.0//EN
BEGIN:VEVENT
DTSTAMP:20260609T120000
DTSTART:20260609T070000Z
DTEND:20260611T140000Z
SUMMARY:Электротранс 2026 (Москва, Россия)
DESCRIPTION:«ЭлектроТранс» специализированная международная выставка продукции и технологии для городского электротранспорта. В рамках выставки пройдут: конкурс перспективных технологий и разработок «Зеленый свет» и международная общественная премия транспортной отрасли «Золотая Колесница».
LOCATION:ВДНХ (Выставка достижений народного хозяйства) (Россия, Москва)
END:VEVENT
END:VCALENDAR