BEGIN:VCALENDAR
VERSION:2.0
PRODID:-//TotalExpo.ru v1.0//EN
BEGIN:VEVENT
DTSTAMP:20261125T120000
DTSTART:20261125T070000Z
DTEND:20261129T140000Z
SUMMARY:МОДНЫЙ ТОВАР. Зимний 2026 (Волгоград, Россия)
DESCRIPTION:Всероссийская специализированная выставка одежды и обуви, изделий из кожи и меха, головных уборов, товаров для детей, галантереи, текстиля, сувениров, товаров народного потребления.
LOCATION:Выставочный комплекс ЭКСПОЦЕНТР (Россия, Волгоград)
END:VEVENT
END:VCALENDAR