BEGIN:VCALENDAR
VERSION:2.0
PRODID:-//TotalExpo.ru v1.0//EN
BEGIN:VEVENT
DTSTAMP:20260930T120000
DTSTART:20260930T070000Z
DTEND:20261002T140000Z
SUMMARY:Цемент. Бетон. Сухие смеси 2026 (Москва, Россия)
DESCRIPTION:Профессиональная строительная выставка. В мероприятии примут участие более 600 специалистов из 22 стран мира. Ведущие иностранные и российские эксперты поделятся своими знаниями и практическим опытом.
LOCATION:ВДНХ (Выставка достижений народного хозяйства) (Россия, Москва)
END:VEVENT
END:VCALENDAR