BEGIN:VCALENDAR
VERSION:2.0
PRODID:-//TotalExpo.ru v1.0//EN
BEGIN:VEVENT
DTSTAMP:20260520T120000
DTSTART:20260520T070000Z
DTEND:20260521T140000Z
SUMMARY:Интерэкспо ГЕО-Сибирь 2026 (Новосибирск, Россия)
DESCRIPTION:Специализированная выставка и научный конгресс в области геодезии, картографии, геологии, геофизики, землеустройства; кадастра земель, недвижимости, ГИС-технологий, лесоустройства, геомониторинга земли, специализированного приборостроения. <br/> Главная задача этого представительного форума – знакомство с передовым опытом, демонстрация современных средств, методов и технологий рационального природопользования и перспективных региональных инвестиционных проектов, а также возможность оценить реальные процессы в этом секторе экономики. 
LOCATION:Новосибирск Экспоцентр (Россия, Новосибирск)
END:VEVENT
END:VCALENDAR