BEGIN:VCALENDAR
VERSION:2.0
PRODID:-//TotalExpo.ru v1.0//EN
BEGIN:VEVENT
DTSTAMP:20260422T120000
DTSTART:20260422T070000Z
DTEND:20260424T140000Z
SUMMARY:Российский международный энергетический форум / РМЭФ 2026 (Санкт-Петербург, Россия)
DESCRIPTION:Российский международный энергетический форум – ежегодное конгрессно-выставочное мероприятие для специалистов топливно-энергетической отрасли, крупнейшее международное мероприятие в России. Основная задача проекта – создание площадки для диалога между отраслевыми корпорациями, органами государственной власти и научным сообществом. Концепция Форума предусматривает проведение деловой и выставочной программ.
LOCATION:КВЦ Экспофорум (Россия, Санкт-Петербург)
END:VEVENT
END:VCALENDAR