BEGIN:VCALENDAR
VERSION:2.0
PRODID:-//TotalExpo.ru v1.0//EN
BEGIN:VEVENT
DTSTAMP:20260422T120000
DTSTART:20260422T070000Z
DTEND:20260424T140000Z
SUMMARY:Interfood Krasnodar 2026 (Краснодар, Россия)
DESCRIPTION:InterFood Krasnodar – одна из крупнейших продовольственных выставок и ключевых отраслевых событий на Юге России. Интеграция с экспозицией выставки «Кубаньпродэкспо» расширяет выбор продукции — от федеральных брендов до уникальной фермерской продукции Кубани, которую невозможно найти в других регионах. <br/>
Производители и поставщики продуктов питания и напитков получают платформу для выхода на оптовые закупки, ритейл и рестораны Юга. Центр переговоров даёт прямой выход на федеральные и региональные торговые сети с перспективой расширения продаж и дистрибуции. 
LOCATION:Экспоград Юг (Россия, Краснодар)
END:VEVENT
END:VCALENDAR