BEGIN:VCALENDAR
VERSION:2.0
PRODID:-//TotalExpo.ru v1.0//EN
BEGIN:VEVENT
DTSTAMP:20260907T120000
DTSTART:20260907T070000Z
DTEND:20260909T140000Z
SUMMARY:ЦветыЭкспо / FlowersExpo 2026 (Москва, Россия)
DESCRIPTION:Международная выставка цветов, растений, техники и технологий для цветоводства и ландшафтного дизайна. «ЦветыЭкспо» - охватывает не только производственные предприятия цветоводства и ландшафтного дизайна, но и дистрибьюторские сети, логистические, оптовые и розничные компании, садовые центры, флористические салоны, ландшафтные студии и сервисные компании.
LOCATION:МВЦ Крокус Экспо (Россия, Москва)
END:VEVENT
END:VCALENDAR