BEGIN:VCALENDAR
VERSION:2.0
PRODID:-//TotalExpo.ru v1.0//EN
BEGIN:VEVENT
DTSTAMP:20260806T120000
DTSTART:20260806T070000Z
DTEND:20260807T140000Z
SUMMARY:День поля «ВолгоградАГРО» 2026 (Волгоград, Россия)
DESCRIPTION:Демонстрационный показ сельскохозяйственной техники в полевых условиях. Новейшие разработки в области минеральных удобрений и средств защиты растений. Сельскохозяйственное оборудование, запчасти, РТИ. GPS-мониторинг. Изготовленная и модернизированная техника силами фермерских хозяйств.
LOCATION:Гришиных, ООО, Демоплощадка (Россия, Волгоград)
END:VEVENT
END:VCALENDAR