BEGIN:VCALENDAR
VERSION:2.0
PRODID:-//TotalExpo.ru v1.0//EN
BEGIN:VEVENT
DTSTAMP:20260423T120000
DTSTART:20260423T070000Z
DTEND:20260426T140000Z
SUMMARY:Все для лета 2026 (Санкт-Петербург, Россия)
DESCRIPTION:«Все для лета» - Международная потребительская ярмарка, которая приурочена к смене сезона года и приближающемуся отдыху. На ярмарке «ВСЕ ДЛЯ ЛЕТА» можно найти самые необходимые вещи для сезона отпусков как в городе, так и на море: изделия из натуральных материалов, полезные продукты, товары для красоты и здоровья и многое другое. В Ярмарке принимают участие компании со всех городов России.
LOCATION:КВЦ Экспофорум (Россия, Санкт-Петербург)
END:VEVENT
END:VCALENDAR