BEGIN:VCALENDAR
VERSION:2.0
PRODID:-//TotalExpo.ru v1.0//EN
BEGIN:VEVENT
DTSTAMP:20251106T120000
DTSTART:20251106T070000Z
DTEND:20251109T140000Z
SUMMARY:HOMEDEC MALAYSIA Kuala Lumpur 2025 (Куала-Лумпур, Малайзия)
DESCRIPTION:Выставка мебели и интерьера, которая позволит домовладельцам оказаться в мире последних конструкций дома, тенденций, идей, решений, советов и лучших продуктов для интерьера дома.
LOCATION:Kuala Lumpur Convention Centre (Малайзия, Куала-Лумпур)
END:VEVENT
END:VCALENDAR