BEGIN:VCALENDAR
VERSION:2.0
PRODID:-//TotalExpo.ru v1.0//EN
BEGIN:VEVENT
DTSTAMP:20251114T120000
DTSTART:20251114T070000Z
DTEND:20251127T140000Z
SUMMARY:India International Trade Fair (IITF) 2025 (Нью-Дели, Индия)
DESCRIPTION:Крупнейшая торговая выставка Индии,охватывающая разнообразные секторы в основном категорий товаров народного потребления. На выставке будут представлены технические товары, новинки программного обеспечения и оборудования, автомобилей, электроники, телекоммуникаций, а также кожа, текстиль, изделия ручной работы, ювелирные изделия, мебель и детали интерьера.
LOCATION:Pragati Maidan (Индия, Нью-Дели)
END:VEVENT
END:VCALENDAR