BEGIN:VCALENDAR
VERSION:2.0
PRODID:-//TotalExpo.ru v1.0//EN
BEGIN:VEVENT
DTSTAMP:20261215T120000
DTSTART:20261215T070000Z
DTEND:20261218T140000Z
SUMMARY:WorldFood Istanbul 2026 (Стамбул, Турция)
DESCRIPTION:WorldFood Istanbul (прежнее название GIDA) - международная выставка пищевых продуктов и технологий переработки. На выставке встречаются международные производители продуктов питания и напитков и ключевые турецкиемпокупатели. 
LOCATION:Istanbul Expo Center (IFM) (Турция, Стамбул)
END:VEVENT
END:VCALENDAR