BEGIN:VCALENDAR
VERSION:2.0
PRODID:-//TotalExpo.ru v1.0//EN
BEGIN:VEVENT
DTSTAMP:20261111T120000
DTSTART:20261111T070000Z
DTEND:20261113T140000Z
SUMMARY:Cosmoprof Asia 2026 (Гонконг, Китай)
DESCRIPTION:Международная выставка парфюмерии и косметики. Около 2000 экспонентов из 34 стран, 18 национальных павильонов, привлечет более 55 000 посетителей, образовательные возможности высокого класса, предоставляемых экспертами отрасли.
LOCATION:Hong Kong Convention & Exhibition Centre (Китай, Гонконг)
END:VEVENT
END:VCALENDAR