BEGIN:VCALENDAR
VERSION:2.0
PRODID:-//TotalExpo.ru v1.0//EN
BEGIN:VEVENT
DTSTAMP:20261027T120000
DTSTART:20261027T070000Z
DTEND:20261029T140000Z
SUMMARY:MEGA SHOW PART 2 2026 (Гонконг, Китай)
DESCRIPTION:Выставка подарков, товаров для дома, аксессуаров, канцелярских товаров. MEGA SHOW проводится ежегодно в октябре в Гонконге и является важным событием в данном направлении. <br/> Продукция от более 1000 поставщиков сгруппирована по секторам: товары для дома, подарки, канцтовары, школьные и офисные принадлежности, ювелирные изделия и аксессуары, что делает удобным навигацию по выставке для более 16 000 покупателей, которые регулярно посещают шоу. 
LOCATION:Hong Kong Convention & Exhibition Centre (Китай, Гонконг)
END:VEVENT
END:VCALENDAR