BEGIN:VCALENDAR
VERSION:2.0
PRODID:-//TotalExpo.ru v1.0//EN
BEGIN:VEVENT
DTSTAMP:20260901T120000
DTSTART:20260901T070000Z
DTEND:20260905T140000Z
SUMMARY:Hong Kong Watch and Clock Fair 2026 (Гонконг, Китай)
DESCRIPTION:Крупнейшая в мире выставка часов. На протяжении последних 25 лет эта выставка предоставляет лучшие возможности для развития в часовой индустрии. <br/> На выставке будут представлены ювелирные часы, дизайнерские и модные модели часов, запасные части, браслеты.
LOCATION:Hong Kong Convention & Exhibition Centre (Китай, Гонконг)
END:VEVENT
END:VCALENDAR