BEGIN:VCALENDAR
VERSION:2.0
PRODID:-//TotalExpo.ru v1.0//EN
BEGIN:VEVENT
DTSTAMP:20260901T120000
DTSTART:20260901T070000Z
DTEND:20260903T140000Z
SUMMARY:Restaurant &amp; Bar Hong Kong X Gourmet Asia 2026 (Гонконг, Китай)
DESCRIPTION:Международная выставка индустрии гостеприимства - ведущая выставка этой отрасли в регионе. Приурочена к 4 кварталу - пик сезона закупок. Среди посетителей - лица, принимающие решения и старшие сотрудники. Проходит совместно с выставкой деликатесов Gourmet Asia. 
LOCATION:Hong Kong Convention & Exhibition Centre (Китай, Гонконг)
END:VEVENT
END:VCALENDAR