BEGIN:VCALENDAR
VERSION:2.0
PRODID:-//TotalExpo.ru v1.0//EN
BEGIN:VEVENT
DTSTAMP:20260826T120000
DTSTART:20260826T070000Z
DTEND:20260828T140000Z
SUMMARY:World Seafood Shanghai / SIFSE 2026 (Шанхай, Китай)
DESCRIPTION:Выставка объединяет производителей, дистрибьюторов и потребителей и предоставляет профессиональную, эффективную торговую платформу для обмена и сотрудничества предприятий мировой рыбохозяйственной отрасли. Ежегодно ее посещают более 50000 специалистов из шести десятков стран мира.
LOCATION:Shanghai New International Expo Centre (Китай, Шанхай)
END:VEVENT
END:VCALENDAR