BEGIN:VCALENDAR
VERSION:2.0
PRODID:-//TotalExpo.ru v1.0//EN
BEGIN:VEVENT
DTSTAMP:20261116T120000
DTSTART:20261116T070000Z
DTEND:20261118T140000Z
SUMMARY:Shanghai International Auto Air-conditioning &amp; Transport Refrigeration Exhibition / CIAAR 2026 (Шанхай, Китай)
DESCRIPTION:Китайская международная выставка автоматического кондиционирования воздуха автомобилей и холодильного транспорта.
LOCATION:Shanghai New International Expo Centre (Китай, Шанхай)
END:VEVENT
END:VCALENDAR