BEGIN:VCALENDAR
VERSION:2.0
PRODID:-//TotalExpo.ru v1.0//EN
BEGIN:VEVENT
DTSTAMP:20261202T120000
DTSTART:20261202T070000Z
DTEND:20261205T140000Z
SUMMARY:Automechanika Shanghai 2026 (Шанхай, Китай)
DESCRIPTION:Шанхайская международная выставка автокомпонентов, оборудования и послепродажных услуг является актуальной деловой площадкой, где встречаются тренды и инновации. В2В - платформа для маркетинга, деловых сделок и обучения. В основе концепции выставки Automechanika Shanghai лежит устойчивое развитие. Все мероприятия выставки будут посвящены инновациям, преобразованиям и экологичному будущему. 
LOCATION:National Exhibition and Convention Center (NEСC) (Китай, Шанхай)
END:VEVENT
END:VCALENDAR