BEGIN:VCALENDAR
VERSION:2.0
PRODID:-//TotalExpo.ru v1.0//EN
BEGIN:VEVENT
DTSTAMP:20271130T120000
DTSTART:20271130T070000Z
DTEND:20271203T140000Z
SUMMARY:Marintec China 2027 (Шанхай, Китай)
DESCRIPTION:Marintec China снова соберет морских специалистов со всего мира. Выставка в формате B2B по морских технологиям. 1483 компаний-участников приветствовали 42 689 посетителей из 87 стран и регионов на прошедшей выставке. 
LOCATION:Shanghai New International Expo Centre (Китай, Шанхай)
END:VEVENT
END:VCALENDAR