BEGIN:VCALENDAR
VERSION:2.0
PRODID:-//TotalExpo.ru v1.0//EN
BEGIN:VEVENT
DTSTAMP:20261012T120000
DTSTART:20261012T070000Z
DTEND:20261016T140000Z
SUMMARY:All In Print China 2026 (Шанхай, Китай)
DESCRIPTION:Международная полиграфическая выставка. Более чем 100 000 посетителей-специалистов, как ожидается, посетит шоу.
LOCATION:Shanghai New International Expo Centre (Китай, Шанхай)
END:VEVENT
END:VCALENDAR