BEGIN:VCALENDAR
VERSION:2.0
PRODID:-//TotalExpo.ru v1.0//EN
BEGIN:VEVENT
DTSTAMP:20260908T120000
DTSTART:20260908T070000Z
DTEND:20260911T140000Z
SUMMARY:Furniture China 2026 (Шанхай, Китай)
DESCRIPTION:Престижная выставка мебели в Азии и одна из 3 крупнейших международных мебельных выставок. Выставка включает полный набор популярных тем: домашняя мебель, офисная мебель, кухня и кабинет, производство и поставки мебели.
LOCATION:Shanghai New International Expo Centre (Китай, Шанхай)
END:VEVENT
END:VCALENDAR