BEGIN:VCALENDAR
VERSION:2.0
PRODID:-//TotalExpo.ru v1.0//EN
BEGIN:VEVENT
DTSTAMP:20260609T120000
DTSTART:20260609T070000Z
DTEND:20260611T140000Z
SUMMARY:CIPPE Shanghai 2026 (Шанхай, Китай)
DESCRIPTION:Выставка Cippe Shanghai является составной частью проекта «Cippe» - регулярного мероприятия для нефтяной и нефтехимической промышленности. В год проходит две сессии: в Пекине и в Шанхае. В 2025 году площадь выставки составит около 70 000 квадратных метров, соберет порядка 1000 экспонентов и свыше 100 000 посетителей из 52 стран и регионов, включая Россию, Германию, Италию, США, Францию, Японию, Сингапур и др.
LOCATION:Shanghai New International Expo Centre (Китай, Шанхай)
END:VEVENT
END:VCALENDAR