BEGIN:VCALENDAR
VERSION:2.0
PRODID:-//TotalExpo.ru v1.0//EN
BEGIN:VEVENT
DTSTAMP:20260616T120000
DTSTART:20260616T070000Z
DTEND:20260618T140000Z
SUMMARY:P-MEC China 2026 (Шанхай, Китай)
DESCRIPTION:Международная выставка фармацевтических машин и оборудования. Выставка освещает новейшие знания и новейшие тенденции в отрасли. Мероприятие соединит тысячи покупателей и продавцов фармацевтической машин и оборудования на международном уровне.
LOCATION:Shanghai New International Expo Centre (Китай, Шанхай)
END:VEVENT
END:VCALENDAR