BEGIN:VCALENDAR
VERSION:2.0
PRODID:-//TotalExpo.ru v1.0//EN
BEGIN:VEVENT
DTSTAMP:20260826T120000
DTSTART:20260826T070000Z
DTEND:20260828T140000Z
SUMMARY:Testing Expo China - Automotive 2026 (Шанхай, Китай)
DESCRIPTION:Выставка автомобильных испытаний, оценки качества и инженерных технологий. Самые современные технологии от более чем 175 поставщиков оборудования и услуг для автомобильной промышленности.
LOCATION:Shanghai World Expo Ehibition and Convention Center (Китай, Шанхай)
END:VEVENT
END:VCALENDAR