BEGIN:VCALENDAR
VERSION:2.0
PRODID:-//TotalExpo.ru v1.0//EN
BEGIN:VEVENT
DTSTAMP:20260423T120000
DTSTART:20260423T070000Z
DTEND:20260426T140000Z
SUMMARY:Сибирская дача 2026 (Красноярск, Россия)
DESCRIPTION:Выставка товаров и услуг, необходимых для обустройства дачных, садово-огородных участков и личных подсобных хозяйств. Выставка призвана: удовлетворить потребности потенциальных посетителей в садово-огородном оборудовании, семенах, удобрении, средствах защиты и новых технологиях выращивания растений и сельскохозяйственной продукции; продемонстрировать новые тенденции в области ландшафтного дизайна и загородного строительства. 
LOCATION:Сибирь, МВДЦ (Россия, Красноярск)
END:VEVENT
END:VCALENDAR