BEGIN:VCALENDAR
VERSION:2.0
PRODID:-//TotalExpo.ru v1.0//EN
BEGIN:VEVENT
DTSTAMP:20261224T120000
DTSTART:20261224T070000Z
DTEND:20261227T140000Z
SUMMARY:Кубань 2026 (Сочи, Россия)
DESCRIPTION:Выставка-ярмарка всех видов продовольственных товаров и сырья для их производства. В предпраздничный период новогодней суеты  выставка призвана помочь не только покупателям с выбором подарков и украшением дома, но и помочь руководителям ресторанов, баров, гостиниц и санаториев создать для своих клиентов настоящую атмосферу веселья и подарить новогоднее настроение сказочным  убранством номеров, ресторанов и  разнообразием изысканных деликатесов на праздничных столах.  
LOCATION:ВЦ ГК Жемчужина (Россия, Сочи)
END:VEVENT
END:VCALENDAR