BEGIN:VCALENDAR
VERSION:2.0
PRODID:-//TotalExpo.ru v1.0//EN
BEGIN:VEVENT
DTSTAMP:20261124T120000
DTSTART:20261124T070000Z
DTEND:20261126T140000Z
SUMMARY:ИНТЕРПОЛИТЕХ 2026 (Москва, Россия)
DESCRIPTION:Крупнейшее в России конгрессно-выставочное мероприятие в сфере обеспечения безопасности государства. В рамках выставки представителями заказывающих подразделений государственных органов осуществляется мониторинг образцов специальной техники, проводится экспертный и конкурсный отбор различных видов технологий, специалистами разных отраслей ведется открытый диалог и переговоры по вопросам применения специальной техники для обеспечения служебной и боевой деятельности. <br/>   Отечественные и иностранные разработчики, производители, поставщики передовой техники и технологий в данной области много лет успешно сотрудничают на площадке Международной выставки «ИНТЕРОЛИТЕХ», демонстрируя свой потенциал и развивая партнерские связи.
LOCATION:ВДНХ (Выставка достижений народного хозяйства) (Россия, Москва)
END:VEVENT
END:VCALENDAR