BEGIN:VCALENDAR
VERSION:2.0
PRODID:-//TotalExpo.ru v1.0//EN
BEGIN:VEVENT
DTSTAMP:20260903T120000
DTSTART:20260903T070000Z
DTEND:20260905T140000Z
SUMMARY:Комплексная безопасность 2026 (Казань, Россия)
DESCRIPTION:Цель салона «Комплексная безопасность» – обеспечение эффективного взаимодействия между органами власти, основными потребителями и разработчиками продукции с целью продвижения современных пожарно-спасательных и информационных технологий на российский рынок систем и средств безопасности. На выставке соберутся ключевые российские и иностранные производители в сфере безопасности, крупнейшие отечественные дистрибьюторы, отраслевые ассоциации и союзы.
LOCATION:Казань Экспо, МВЦ (Россия, Казань)
END:VEVENT
END:VCALENDAR