BEGIN:VCALENDAR
VERSION:2.0
PRODID:-//TotalExpo.ru v1.0//EN
BEGIN:VEVENT
DTSTAMP:20260903T120000
DTSTART:20260903T070000Z
DTEND:20260906T140000Z
SUMMARY:МоторЭкспоШоу 2026 (Красноярск, Россия)
DESCRIPTION:Масштабная выставка, где демонстрируются новейшие модели автотранспорта, аксессуаров и комплектующих, а также инновационные технологии и достижения в области транспортной промышленности. Событие известно не только своим масштабом, но и разнообразием экспонатов. В рамках выставки будет представлен широкий спектр легковых автомобилей, мотоциклов и коммерческого транспорта — от современных моделей до раритетных коллекционных автомобилей. Кроме того, посетители смогут ознакомиться с продукцией для тюнинга, модернизации и обслуживания.
LOCATION:Сибирь, МВДЦ (Россия, Красноярск)
END:VEVENT
END:VCALENDAR