BEGIN:VCALENDAR
VERSION:2.0
PRODID:-//TotalExpo.ru v1.0//EN
BEGIN:VEVENT
DTSTAMP:20270127T120000
DTSTART:20270127T070000Z
DTEND:20270129T140000Z
SUMMARY:Строительство. Дизайн. Архитектура 2027 (Красноярск, Россия)
DESCRIPTION:Выставка строительных и архитектурных проектов, новых технологий и оборудования в строительстве, строительных и отделочных материалов. <br/> «ОРДЕР ВОПЛОЩЕНИЯ» - ежегодный конкурс архитектурных проектов.  
LOCATION:Сибирь, МВДЦ (Россия, Красноярск)
END:VEVENT
END:VCALENDAR