BEGIN:VCALENDAR
VERSION:2.0
PRODID:-//TotalExpo.ru v1.0//EN
BEGIN:VEVENT
DTSTAMP:20261214T120000
DTSTART:20261214T070000Z
DTEND:20261220T140000Z
SUMMARY:Рождественская ярмарка 2026 (Красноярск, Россия)
DESCRIPTION:В преддверии новогодних праздников проходит Рождественская ярмарка, чтобы оказать помощь жителям Красноярска и гостям города в рождественских хлопотах. В программе выставки: ярмарка-продажа товаров народного потребления, презентации, розыгрыши, показ моделей одежды.
LOCATION:Сибирь, МВДЦ (Россия, Красноярск)
END:VEVENT
END:VCALENDAR