BEGIN:VCALENDAR
VERSION:2.0
PRODID:-//TotalExpo.ru v1.0//EN
BEGIN:VEVENT
DTSTAMP:20261019T120000
DTSTART:20261019T070000Z
DTEND:20261021T140000Z
SUMMARY:Testing &amp; Control 2026 (Москва, Россия)
DESCRIPTION:Testing &amp; Control – самая крупная в России и странах СНГ выставка испытательного и контрольно-измерительного оборудования.
LOCATION:МВЦ Крокус Экспо (Россия, Москва)
END:VEVENT
END:VCALENDAR