BEGIN:VCALENDAR
VERSION:2.0
PRODID:-//TotalExpo.ru v1.0//EN
BEGIN:VEVENT
DTSTAMP:20260422T120000
DTSTART:20260422T070000Z
DTEND:20260424T140000Z
SUMMARY:ПОЛИУРЕТАНЭКС 2026 (Москва, Россия)
DESCRIPTION:Ежегодная выставка "Полиуретанэкс" является единственной в России международной специализированной выставкой полиуретановых материалов, технологий и оборудования, которая наглядно демонстрирует достижения в сфере развития материаловедения, и призвана способствовать экспонентам в налаживании новых деловых контактов и партнерских отношений.
LOCATION:МВЦ Крокус Экспо (Россия, Москва)
END:VEVENT
END:VCALENDAR