BEGIN:VCALENDAR
VERSION:2.0
PRODID:-//TotalExpo.ru v1.0//EN
BEGIN:VEVENT
DTSTAMP:20261117T120000
DTSTART:20261117T070000Z
DTEND:20261119T140000Z
SUMMARY:Электрические сети / МФЭС 2026 (Москва, Россия)
DESCRIPTION:Международный форум «ЭЛЕКТРИЧЕСКИЕ СЕТИ» ежегодно проводится с 1997 года (первое название - Международная специализированная выставка «ЛЭП») – мероприятие, объединяющее тысячи специалистов электроэнергетической и электротехнической отраслей, научных экспертов, представителей органов государственной власти, специалистов проектного и строительного направления. Мероприятие, направленное на обсуждение и решение профессиональным сообществом приоритетных задач электросетевого комплекса России с целью повышения его надежности и эффективности. 
LOCATION:Тимирязев Центр (Россия, Москва)
END:VEVENT
END:VCALENDAR