BEGIN:VCALENDAR
VERSION:2.0
PRODID:-//TotalExpo.ru v1.0//EN
BEGIN:VEVENT
DTSTAMP:20260422T120000
DTSTART:20260422T070000Z
DTEND:20260424T140000Z
SUMMARY:Энергетика и электротехника 2026 (Санкт-Петербург, Россия)
DESCRIPTION:Выставка «Энергетика и электротехника» - одно из ведущих отраслевых событий в электроэнергетике. В фокусе – создание и эксплуатация энергетического оборудования и внедрения новых технологий на промышленных предприятиях, в сфере ЖКХ, строительства и на транспорте.
LOCATION:КВЦ Экспофорум (Россия, Санкт-Петербург)
END:VEVENT
END:VCALENDAR