BEGIN:VCALENDAR
VERSION:2.0
PRODID:-//TotalExpo.ru v1.0//EN
BEGIN:VEVENT
DTSTAMP:20260522T120000
DTSTART:20260522T070000Z
DTEND:20260524T140000Z
SUMMARY:Vladivostok Boat Show 2026 (Владивосток, Россия)
DESCRIPTION:Международная выставка катеров и яхт. Участие в выставке открывает производителям и продавцам яхт, катеров, морского оборудования, сопутствующих товаров и услуг класса Luxury большие возможности выхода на новые перспективные рынки. <br/> Как и в прошлом году, выставка будет проходить на территории яхт-клуба «Семь Футов». Специально для выставки будут построены крытые павильоны, в которых можно будет познакомиться с предложениями от компаний-участников. Большая часть экспозиции будет расположена под открытым небом, что позволит лучшим образом оценить все достоинства яхт и катеров.
LOCATION:Семь футов, Яхт-клуб (Россия, Владивосток)
END:VEVENT
END:VCALENDAR