BEGIN:VCALENDAR
VERSION:2.0
PRODID:-//TotalExpo.ru v1.0//EN
BEGIN:VEVENT
DTSTAMP:20261020T120000
DTSTART:20261020T070000Z
DTEND:20261022T140000Z
SUMMARY:Бетонный Форум ICCXRU 2026 (Санкт-Петербург, Россия)
DESCRIPTION:Крупнейшая в России и странах СНГ специализированная конференция и выставка бетонных и сборных железобетонных технологий (прежнее название - ICCX Russia). Гостей мероприятия ожидает ультрасовременная программа конференции с выступлениями ведущих российских и международных экспертов, масштабная отраслевая выставка с участием ведущих компаний-поставщиков отрасли и экскурсии на промышленные объекты Санкт-Петербурга и области. 
LOCATION:Cosmos Saint-Petersburg Pulkovskaya Hotel  (Россия, Санкт-Петербург)
END:VEVENT
END:VCALENDAR