BEGIN:VCALENDAR
VERSION:2.0
PRODID:-//TotalExpo.ru v1.0//EN
BEGIN:VEVENT
DTSTAMP:20260923T120000
DTSTART:20260923T070000Z
DTEND:20260925T140000Z
SUMMARY:Промышленный салон. Металлообработка 2026 (Самара, Россия)
DESCRIPTION:Инновационно-промышленный форум и выставка «Промышленный салон» является крупнейшим многоотраслевым выставочным проектом Поволжского региона и предлагает участникам уникальные возможности для демонстрации и продвижения новейшего промышленного оборудования, технологий по его ремонту и модернизации, представления технологических ноу-хау и обмена опытом отечественного и зарубежного производителя. Востребованными разделами в тематике последних лет стали нанотехнологии и экология, защита окружающей среды, переработка отходов.
LOCATION:Экспо-Волга, ВЦ (Россия, Самара)
END:VEVENT
END:VCALENDAR