BEGIN:VCALENDAR
VERSION:2.0
PRODID:-//TotalExpo.ru v1.0//EN
BEGIN:VEVENT
DTSTAMP:20260617T120000
DTSTART:20260617T070000Z
DTEND:20260619T140000Z
SUMMARY:Нефтедобыча. Нефтепереработка. Химия 2026 (Самара, Россия)
DESCRIPTION:Международная выставка нефтехимического и газового комплекса. Это единственное в Самарской области конгрессно-выставочное мероприятие, посвященное актуальным вопросам нефтяной и нефтехимической промышленности. <br/> Нефтехимический и газовый комплекс является одним из базовых в экономике Самарской области. В Самарской области растет спрос на современные разработки, технологии и оборудование для нефтехимической промышленности. Поэтому главная цель выставки «Нефтедобыча. Нефтепереработка. Химия» - создать бизнес-перекресток, на котором смогут встретиться ведущие российские и зарубежные производители оборудования и технологий, содействовать развитию нефтяной промышленности Самарского региона.
LOCATION:Экспо-Волга, ВЦ (Россия, Самара)
END:VEVENT
END:VCALENDAR