BEGIN:VCALENDAR
VERSION:2.0
PRODID:-//TotalExpo.ru v1.0//EN
BEGIN:VEVENT
DTSTAMP:20260424T120000
DTSTART:20260424T070000Z
DTEND:20260425T140000Z
SUMMARY:Ваш Коттедж 2026 (Самара, Россия)
DESCRIPTION:«Ваш коттедж» - это комплексный подход к проектированию, строительству и обустройству коттеджей, загородных домов, приусадебных хозяйств, созданию уютной среды обитания. На одной площадке соберутся более 100 компаний-участников из разных регионов России, представят всё для строительства и отделки загородных домов и коттеджей, садово-паркового строительства, оформления и благоустройства прилегающей территории.
LOCATION:Экспо-Волга, ВЦ (Россия, Самара)
END:VEVENT
END:VCALENDAR