BEGIN:VCALENDAR
VERSION:2.0
PRODID:-//TotalExpo.ru v1.0//EN
BEGIN:VEVENT
DTSTAMP:20261125T120000
DTSTART:20261125T070000Z
DTEND:20261127T140000Z
SUMMARY:Дентал-Экспо. Екатеринбург 2026 (Екатеринбург, Россия)
DESCRIPTION:Специализированная стоматологическая выставка. Выставка технологий, оборудования и материалов для стоматологии, а также международная стоматологическая конференция "Пути повышения качества жизни жителей крупного индустриального центра".
LOCATION:ЦМТЕ (Центр Международной Торговли Екатеринбург) (Россия, Екатеринбург)
END:VEVENT
END:VCALENDAR