BEGIN:VCALENDAR
VERSION:2.0
PRODID:-//TotalExpo.ru v1.0//EN
BEGIN:VEVENT
DTSTAMP:20260422T120000
DTSTART:20260422T070000Z
DTEND:20260424T140000Z
SUMMARY:ЖКХ России 2026 (Санкт-Петербург, Россия)
DESCRIPTION:Одно из ключевых ежегодных конгрессно-выставочных мероприятий для специалистов жилищно-коммунальной сферы и смежных отраслей. Целью выставки и конференции является содействие совершенствованию жилищно-коммунального хозяйства, реализации приоритетных национальных проектов, социальной защиты населения. <br/> Задачей выставки и конференции является организация встреч представителей государственной власти, систем управления ЖКХ, предприятий ремонтно-сервисного обслуживания, инвесторов, предпринимателей, ассоциаций, союзов и других объединений работников жилищно-коммунального хозяйства для обсуждения насущных проблем, выработки коллегиальных решений и сотрудничества по  улучшению состояния жилищно-коммунальной сферы.
LOCATION:КВЦ Экспофорум (Россия, Санкт-Петербург)
END:VEVENT
END:VCALENDAR